BEGIN:VCALENDAR
VERSION:2.0
PRODID:-//Anderson Center for Autism - ECPv6.15.20//NONSGML v1.0//EN
CALSCALE:GREGORIAN
METHOD:PUBLISH
X-WR-CALNAME:Anderson Center for Autism
X-ORIGINAL-URL:https://www.andersoncenterforautism.org
X-WR-CALDESC:Events for Anderson Center for Autism
REFRESH-INTERVAL;VALUE=DURATION:PT1H
X-Robots-Tag:noindex
X-PUBLISHED-TTL:PT1H
BEGIN:VTIMEZONE
TZID:UTC
BEGIN:STANDARD
TZOFFSETFROM:+0000
TZOFFSETTO:+0000
TZNAME:UTC
DTSTART:20240101T000000
END:STANDARD
END:VTIMEZONE
BEGIN:VEVENT
DTSTART;TZID=UTC:20251024T170000
DTEND;TZID=UTC:20251024T190000
DTSTAMP:20260421T172247
CREATED:20250814T161216Z
LAST-MODIFIED:20250814T163924Z
UID:7179-1761325200-1761332400@www.andersoncenterforautism.org
SUMMARY:AELA Trunk or Treat
DESCRIPTION:Join us for our very first Trunk or Treat hosted by Anderson Early Learning Academy in Latham\, NY.Open to all ages – costumes are encouraged!Friday October 24th5:00PM – 7:00PMAnderson Early Learning Academy7 Century Hill Drive\, Latham NY 12110 \nThe Trunk or Treat is being held in tandem with our 4th annual RAIISE event\, learn more here: www.andersoncenterforautism.org/raiise \n 
URL:https://www.andersoncenterforautism.org/calendar/aela-trunk-or-treat/
LOCATION:Anderson Early Learning Academy\, 7 Century Hill Drive\, Latham\, New York\, 12110
CATEGORIES:Autism Community
ATTACH;FMTTYPE=image/png:https://www.andersoncenterforautism.org/wp-content/uploads/2025/08/Trunk-or-Treat-Logo@10x.png
END:VEVENT
END:VCALENDAR