BEGIN:VCALENDAR
VERSION:2.0
PRODID:-//Anderson Center for Autism - ECPv6.15.20//NONSGML v1.0//EN
CALSCALE:GREGORIAN
METHOD:PUBLISH
X-WR-CALNAME:Anderson Center for Autism
X-ORIGINAL-URL:https://www.andersoncenterforautism.org
X-WR-CALDESC:Events for Anderson Center for Autism
REFRESH-INTERVAL;VALUE=DURATION:PT1H
X-Robots-Tag:noindex
X-PUBLISHED-TTL:PT1H
BEGIN:VTIMEZONE
TZID:UTC
BEGIN:STANDARD
TZOFFSETFROM:+0000
TZOFFSETTO:+0000
TZNAME:UTC
DTSTART:20250101T000000
END:STANDARD
END:VTIMEZONE
BEGIN:VEVENT
DTSTART;TZID=UTC:20260212T100000
DTEND;TZID=UTC:20260212T120000
DTSTAMP:20260422T190225
CREATED:20251015T173037Z
LAST-MODIFIED:20260211T164341Z
UID:7334-1770890400-1770897600@www.andersoncenterforautism.org
SUMMARY:Anderson Center for Autism General Tour
DESCRIPTION:**This tour is currently FULL** \nInterested in learning more about our children’s programs and services? Sign up for our tour! \nJoin us for a tour of our Children’s Services Program at our main campus in Staatsburg\, NY on Thursday\, February 12th. This will be hosted by one of Anderson’s Admissions team members Please click here to register! \nUnable to make the in-person general tour? Check out our online virtual tour
URL:https://www.andersoncenterforautism.org/calendar/anderson-center-for-autism-general-tour-42/
LOCATION:Anderson Center for Autism\, 4885 US-9\, Staatsburg\, New York\, 12580\, United States
CATEGORIES:Admissions
ATTACH;FMTTYPE=image/jpeg:https://www.andersoncenterforautism.org/wp-content/uploads/2026/02/MG_0130-social.-media.jpg
END:VEVENT
END:VCALENDAR