BEGIN:VCALENDAR
VERSION:2.0
PRODID:-//Anderson Center for Autism - ECPv6.15.20//NONSGML v1.0//EN
CALSCALE:GREGORIAN
METHOD:PUBLISH
X-ORIGINAL-URL:https://www.andersoncenterforautism.org
X-WR-CALDESC:Events for Anderson Center for Autism
REFRESH-INTERVAL;VALUE=DURATION:PT1H
X-Robots-Tag:noindex
X-PUBLISHED-TTL:PT1H
BEGIN:VTIMEZONE
TZID:UTC
BEGIN:STANDARD
TZOFFSETFROM:+0000
TZOFFSETTO:+0000
TZNAME:UTC
DTSTART:20230101T000000
END:STANDARD
END:VTIMEZONE
BEGIN:VEVENT
DTSTART;TZID=UTC:20240114T053000
DTEND;TZID=UTC:20240114T080000
DTSTAMP:20260424T153156
CREATED:20240112T194752Z
LAST-MODIFIED:20240112T194752Z
UID:10000497-1705210200-1705219200@www.andersoncenterforautism.org
SUMMARY:Kelly Dooley & David Melby on 1 in 36
DESCRIPTION:This weekend’s 1 in 36 broadcast is a special one! This show is the official launch of Anderson’s centennial\, we are celebrating 100 years in existence. For the first half of the show\, we have Anderson’s PR & Marketing Manager\, Kelly Dooley interviewing the usual host of the show\, Eliza Bozenski. These two discuss Anderson’s history\, with a deep dive into past and how the organization has grown over the years since 1924.The second half of the show includes an interview with David Melby\, Vice President of NFP. David has been a constant supporter of Anderson throughout the years\, serving on our board\, volunteering\, sponsoring fundraising events and more. Tune in to hear more from David and what our centennial year means to him! \n\n\n\n\n\n\n\nAiring live:Sunday January 14th 5:30AM on WHUD 100.7FMSunday January 14th 6:00AM on WBPM 92.9FM/96.5FMSunday January 14th 7:30AM on Oldies – WGNY 98.9FM \n\n\n\n\n\n\n\nYou can also listen on our website\, or on the Apple Podcasts/Spotify Apps\, just search 1 in 36!
URL:https://www.andersoncenterforautism.org/calendar/kelly-dooley-david-melby-on-1-in-36/
CATEGORIES:1 in 31 Podcast
END:VEVENT
BEGIN:VEVENT
DTSTART;TZID=UTC:20240114T053000
DTEND;TZID=UTC:20240114T080000
DTSTAMP:20260424T153156
CREATED:20240112T194752Z
LAST-MODIFIED:20240112T194752Z
UID:10000764-1705210200-1705219200@www.andersoncenterforautism.org
SUMMARY:Kelly Dooley & David Melby on 1 in 36
DESCRIPTION:This weekend’s 1 in 36 broadcast is a special one! This show is the official launch of Anderson’s centennial\, we are celebrating 100 years in existence. For the first half of the show\, we have Anderson’s PR & Marketing Manager\, Kelly Dooley interviewing the usual host of the show\, Eliza Bozenski. These two discuss Anderson’s history\, with a deep dive into past and how the organization has grown over the years since 1924.The second half of the show includes an interview with David Melby\, Vice President of NFP. David has been a constant supporter of Anderson throughout the years\, serving on our board\, volunteering\, sponsoring fundraising events and more. Tune in to hear more from David and what our centennial year means to him! \n\n\n\n\n\n\n\nAiring live:Sunday January 14th 5:30AM on WHUD 100.7FMSunday January 14th 6:00AM on WBPM 92.9FM/96.5FMSunday January 14th 7:30AM on Oldies – WGNY 98.9FM \n\n\n\n\n\n\n\nYou can also listen on our website\, or on the Apple Podcasts/Spotify Apps\, just search 1 in 36!
URL:https://www.andersoncenterforautism.org/calendar/kelly-dooley-david-melby-on-1-in-36-2/
CATEGORIES:1 in 31 Podcast
END:VEVENT
END:VCALENDAR