BEGIN:VCALENDAR
VERSION:2.0
PRODID:-//Anderson Center for Autism - ECPv6.15.20//NONSGML v1.0//EN
CALSCALE:GREGORIAN
METHOD:PUBLISH
X-WR-CALNAME:Anderson Center for Autism
X-ORIGINAL-URL:https://www.andersoncenterforautism.org
X-WR-CALDESC:Events for Anderson Center for Autism
REFRESH-INTERVAL;VALUE=DURATION:PT1H
X-Robots-Tag:noindex
X-PUBLISHED-TTL:PT1H
BEGIN:VTIMEZONE
TZID:UTC
BEGIN:STANDARD
TZOFFSETFROM:+0000
TZOFFSETTO:+0000
TZNAME:UTC
DTSTART:20230101T000000
END:STANDARD
END:VTIMEZONE
BEGIN:VEVENT
DTSTART;TZID=UTC:20240303T060000
DTEND;TZID=UTC:20240303T080000
DTSTAMP:20260422T003309
CREATED:20240301T201030Z
LAST-MODIFIED:20240301T201030Z
UID:10000512-1709445600-1709452800@www.andersoncenterforautism.org
SUMMARY:St. Christopher Fitness on 1 in 36
DESCRIPTION:This weekend’s 1 in 36 guests are Jomilson and Theresa Alvarez. This husband and wife duo are the co-owners of St. Christopher Fitness (SCF)! They founded SCF in 2021\, inspired by a family member who is diagnosed with ASD. Their mission is to provide adaptive and inclusive fitness for everyone. They believe that everyone deserves the opportunity to live a healthy and active lifestyle\, regardless of ability or disability. They provide private training for individuals with mental\, physical\, and cognitive challenges including but not limited to Down syndrome\, ASD\, cerebral palsy\, multiple sclerosis\, and rare genetic conditions. SCF is located in Clifton Park\, NY – tune in to learn more or visit https://www.stchristopherfitness.com/  \n\n\n\n\n\n\n\nAiring live:Sunday March 3rd 6:00AM on WHUD 100.7FM and WBPM 92.9FM/96.5FMSunday March 3rd 7:30AM on Oldies – WGNY 98.9FM \n\n\n\n\n\n\n\nYou can also listen on our website\, or on the Apple Podcasts/Spotify Apps\, just search 1 in 36!
URL:https://www.andersoncenterforautism.org/calendar/st-christopher-fitness-on-1-in-36/
CATEGORIES:1 in 31 Podcast
END:VEVENT
BEGIN:VEVENT
DTSTART;TZID=UTC:20240303T060000
DTEND;TZID=UTC:20240303T080000
DTSTAMP:20260422T003309
CREATED:20240301T201030Z
LAST-MODIFIED:20240301T201030Z
UID:10000779-1709445600-1709452800@www.andersoncenterforautism.org
SUMMARY:St. Christopher Fitness on 1 in 36
DESCRIPTION:This weekend’s 1 in 36 guests are Jomilson and Theresa Alvarez. This husband and wife duo are the co-owners of St. Christopher Fitness (SCF)! They founded SCF in 2021\, inspired by a family member who is diagnosed with ASD. Their mission is to provide adaptive and inclusive fitness for everyone. They believe that everyone deserves the opportunity to live a healthy and active lifestyle\, regardless of ability or disability. They provide private training for individuals with mental\, physical\, and cognitive challenges including but not limited to Down syndrome\, ASD\, cerebral palsy\, multiple sclerosis\, and rare genetic conditions. SCF is located in Clifton Park\, NY – tune in to learn more or visit https://www.stchristopherfitness.com/  \n\n\n\n\n\n\n\nAiring live:Sunday March 3rd 6:00AM on WHUD 100.7FM and WBPM 92.9FM/96.5FMSunday March 3rd 7:30AM on Oldies – WGNY 98.9FM \n\n\n\n\n\n\n\nYou can also listen on our website\, or on the Apple Podcasts/Spotify Apps\, just search 1 in 36!
URL:https://www.andersoncenterforautism.org/calendar/st-christopher-fitness-on-1-in-36-2/
CATEGORIES:1 in 31 Podcast
END:VEVENT
BEGIN:VEVENT
DTSTART;TZID=UTC:20240310T060000
DTEND;TZID=UTC:20240310T080000
DTSTAMP:20260422T003309
CREATED:20240308T205059Z
LAST-MODIFIED:20240308T205059Z
UID:10000513-1710050400-1710057600@www.andersoncenterforautism.org
SUMMARY:Beth Poague on 1 in 36
DESCRIPTION:This weekend’s 1 in 36 guest is Beth Poague. Beth is a family and community educator for early childhood special education at Westchester Institute for Human Development. She is also a parent advocate for families with children with disabilities. Beth holds a master’s degree in Social Justice Educational Studies at SUNY New Paltz\, focusing on disability advocacy\, inclusion and anti-racism work\, and is a graduate of the Certified NYS Partners in Policymaking. Tune in to learn more about Beth\, or visit the links below:The NYSED OSE Partnership (New York State Education Office of Special Education Partnership)\, which includes the Early Childhood and School Age Family and Community Engagement (FACE) centers in each region in New York: osepartnership.org \n\n\n\nWIHD’s link to Family and Community Engagement: wihd.org/ \n\n\n\nParents and caregivers can sign up to receive emails from WIHD\, and be notified of trainings: wihd.org \n\n\n\n\n\n\n\nAiring live:Sunday March 3rd 6:00AM on WHUD 100.7FM and WBPM 92.9FM/96.5FMSunday March 3rd 7:30AM on Oldies – WGNY 98.9FM \n\n\n\n\n\n\n\nYou can also listen on our website\, or on the Apple Podcasts/Spotify Apps\, just search 1 in 36!
URL:https://www.andersoncenterforautism.org/calendar/beth-poague-on-1-in-36/
CATEGORIES:1 in 31 Podcast
END:VEVENT
BEGIN:VEVENT
DTSTART;TZID=UTC:20240310T060000
DTEND;TZID=UTC:20240310T080000
DTSTAMP:20260422T003309
CREATED:20240308T205059Z
LAST-MODIFIED:20240308T205059Z
UID:10000780-1710050400-1710057600@www.andersoncenterforautism.org
SUMMARY:Beth Poague on 1 in 36
DESCRIPTION:This weekend’s 1 in 36 guest is Beth Poague. Beth is a family and community educator for early childhood special education at Westchester Institute for Human Development. She is also a parent advocate for families with children with disabilities. Beth holds a master’s degree in Social Justice Educational Studies at SUNY New Paltz\, focusing on disability advocacy\, inclusion and anti-racism work\, and is a graduate of the Certified NYS Partners in Policymaking. Tune in to learn more about Beth\, or visit the links below:The NYSED OSE Partnership (New York State Education Office of Special Education Partnership)\, which includes the Early Childhood and School Age Family and Community Engagement (FACE) centers in each region in New York: osepartnership.org \n\n\n\nWIHD’s link to Family and Community Engagement: wihd.org/ \n\n\n\nParents and caregivers can sign up to receive emails from WIHD\, and be notified of trainings: wihd.org \n\n\n\n\n\n\n\nAiring live:Sunday March 3rd 6:00AM on WHUD 100.7FM and WBPM 92.9FM/96.5FMSunday March 3rd 7:30AM on Oldies – WGNY 98.9FM \n\n\n\n\n\n\n\nYou can also listen on our website\, or on the Apple Podcasts/Spotify Apps\, just search 1 in 36!
URL:https://www.andersoncenterforautism.org/calendar/beth-poague-on-1-in-36-2/
CATEGORIES:1 in 31 Podcast
END:VEVENT
BEGIN:VEVENT
DTSTART;TZID=UTC:20240317T060000
DTEND;TZID=UTC:20240317T080000
DTSTAMP:20260422T003309
CREATED:20240315T202722Z
LAST-MODIFIED:20240315T202722Z
UID:10000514-1710655200-1710662400@www.andersoncenterforautism.org
SUMMARY:Linda Bertolozzi on 1 in 36
DESCRIPTION:This weekend’s 1 in 36 guest is Linda Bertolozzi. Linda is the Director of Office of Accommodative Services at Dutchess Community College (DCC). Anderson and DCC are long time partners and friends\, collaborating on many projects over the years. Linda joins us to discuss the many different ways the Office of Accommodative Services (OAS) departments helps students\, including the Think Ahead program. OAS is committed to providing equal access and an inclusive campus community by providing accessibility services and advocacy for individuals with disabilities. Tune in to learn more about Linda and the OAS department\, or visit www.sunydutchess.edu/ \n\n\n\nDon’t forget!DCC is hosting a FREE Transition to College workshop on March 19thTime:  8:45 am – 1:00 pmThe James and Betty Hall Theatre\, 53 Pendell Rd\, Poughkeepsie\, NY 12601\, USADutchess Community CollegeThis workshop is for high school students with an IEP or 504 Plan; their parents/guardians; school personnel and any others involved in the college planning process. \n\n\n\n\n\n\n\nAiring live:Sunday March 17 6:00AM on WHUD 100.7FM and WBPM 92.9FM/96.5FMSunday March 17 7:30AM on Oldies – WGNY 98.9FM \n\n\n\n\n\n\n\nYou can also listen on our website\, or on the Apple Podcasts/Spotify Apps\, just search 1 in 36!
URL:https://www.andersoncenterforautism.org/calendar/linda-bertolozzi-on-1-in-36/
CATEGORIES:1 in 31 Podcast
END:VEVENT
BEGIN:VEVENT
DTSTART;TZID=UTC:20240317T060000
DTEND;TZID=UTC:20240317T080000
DTSTAMP:20260422T003309
CREATED:20240315T202722Z
LAST-MODIFIED:20240315T202722Z
UID:10000781-1710655200-1710662400@www.andersoncenterforautism.org
SUMMARY:Linda Bertolozzi on 1 in 36
DESCRIPTION:This weekend’s 1 in 36 guest is Linda Bertolozzi. Linda is the Director of Office of Accommodative Services at Dutchess Community College (DCC). Anderson and DCC are long time partners and friends\, collaborating on many projects over the years. Linda joins us to discuss the many different ways the Office of Accommodative Services (OAS) departments helps students\, including the Think Ahead program. OAS is committed to providing equal access and an inclusive campus community by providing accessibility services and advocacy for individuals with disabilities. Tune in to learn more about Linda and the OAS department\, or visit www.sunydutchess.edu/ \n\n\n\nDon’t forget!DCC is hosting a FREE Transition to College workshop on March 19thTime:  8:45 am – 1:00 pmThe James and Betty Hall Theatre\, 53 Pendell Rd\, Poughkeepsie\, NY 12601\, USADutchess Community CollegeThis workshop is for high school students with an IEP or 504 Plan; their parents/guardians; school personnel and any others involved in the college planning process. \n\n\n\n\n\n\n\nAiring live:Sunday March 17 6:00AM on WHUD 100.7FM and WBPM 92.9FM/96.5FMSunday March 17 7:30AM on Oldies – WGNY 98.9FM \n\n\n\n\n\n\n\nYou can also listen on our website\, or on the Apple Podcasts/Spotify Apps\, just search 1 in 36!
URL:https://www.andersoncenterforautism.org/calendar/linda-bertolozzi-on-1-in-36-2/
CATEGORIES:1 in 31 Podcast
END:VEVENT
BEGIN:VEVENT
DTSTART;TZID=UTC:20240331T060000
DTEND;TZID=UTC:20240331T080000
DTSTAMP:20260422T003309
CREATED:20240329T210114Z
LAST-MODIFIED:20240329T210114Z
UID:10000518-1711864800-1711872000@www.andersoncenterforautism.org
SUMMARY:Abby Edwards on 1 in 36
DESCRIPTION:This weekend’s 1 in 36 guest is Abby Edwards. Abby is a sophomore at Marist College studying Elementary/Special Education. This year she will be hosting her 8th annual Autism Awareness Pajama Day Fundraiser! All funds raised will be donated to Anderson to help us in our mission to optimize the quality of life for individuals with autism. Donate $3 or more to make a difference\, and wear your pajamas on Friday April 12th! In her own words “I have been coordinating an annual Pajama Day fundraiser with the incredible participation of school districts across the state\, and support from friends\, family\, and community members. Over the past 7 years\, together we have raised over $51\,000 in honor of my brother Riley\, supporting Anderson Center for Autism and promoting Autism Acceptance.”  \n\n\n\nClick here to donateChecks can be made out to: Anderson Foundation for Autism\, Memo – Pajama DayMailed to: Abby Edwards\, 19 East Moriches Boulevard\, East Moriches NY 11940 \n\n\n\nClick here to RSVP on FacebookClick here for additional information \n\n\n\n\n\n\n\nAiring live:Sunday March 31 6:00AM on WHUD 100.7FM and WBPM 92.9FM/96.5FMSunday March 31 7:30AM on Oldies – WGNY 98.9FM \n\n\n\n\n\n\n\nYou can also listen on our website\, or on the Apple Podcasts/Spotify Apps\, just search 1 in 36!
URL:https://www.andersoncenterforautism.org/calendar/abby-edwards-on-1-in-36/
CATEGORIES:1 in 31 Podcast
END:VEVENT
BEGIN:VEVENT
DTSTART;TZID=UTC:20240331T060000
DTEND;TZID=UTC:20240331T080000
DTSTAMP:20260422T003309
CREATED:20240329T210114Z
LAST-MODIFIED:20240329T210114Z
UID:10000785-1711864800-1711872000@www.andersoncenterforautism.org
SUMMARY:Abby Edwards on 1 in 36
DESCRIPTION:This weekend’s 1 in 36 guest is Abby Edwards. Abby is a sophomore at Marist College studying Elementary/Special Education. This year she will be hosting her 8th annual Autism Awareness Pajama Day Fundraiser! All funds raised will be donated to Anderson to help us in our mission to optimize the quality of life for individuals with autism. Donate $3 or more to make a difference\, and wear your pajamas on Friday April 12th! In her own words “I have been coordinating an annual Pajama Day fundraiser with the incredible participation of school districts across the state\, and support from friends\, family\, and community members. Over the past 7 years\, together we have raised over $51\,000 in honor of my brother Riley\, supporting Anderson Center for Autism and promoting Autism Acceptance.”  \n\n\n\nClick here to donateChecks can be made out to: Anderson Foundation for Autism\, Memo – Pajama DayMailed to: Abby Edwards\, 19 East Moriches Boulevard\, East Moriches NY 11940 \n\n\n\nClick here to RSVP on FacebookClick here for additional information \n\n\n\n\n\n\n\nAiring live:Sunday March 31 6:00AM on WHUD 100.7FM and WBPM 92.9FM/96.5FMSunday March 31 7:30AM on Oldies – WGNY 98.9FM \n\n\n\n\n\n\n\nYou can also listen on our website\, or on the Apple Podcasts/Spotify Apps\, just search 1 in 36!
URL:https://www.andersoncenterforautism.org/calendar/abby-edwards-on-1-in-36-2/
CATEGORIES:1 in 31 Podcast
END:VEVENT
END:VCALENDAR