BEGIN:VCALENDAR
VERSION:2.0
PRODID:-//Anderson Center for Autism - ECPv6.15.20//NONSGML v1.0//EN
CALSCALE:GREGORIAN
METHOD:PUBLISH
X-ORIGINAL-URL:https://www.andersoncenterforautism.org
X-WR-CALDESC:Events for Anderson Center for Autism
REFRESH-INTERVAL;VALUE=DURATION:PT1H
X-Robots-Tag:noindex
X-PUBLISHED-TTL:PT1H
BEGIN:VTIMEZONE
TZID:UTC
BEGIN:STANDARD
TZOFFSETFROM:+0000
TZOFFSETTO:+0000
TZNAME:UTC
DTSTART:20230101T000000
END:STANDARD
END:VTIMEZONE
BEGIN:VEVENT
DTSTART;TZID=UTC:20240317T060000
DTEND;TZID=UTC:20240317T080000
DTSTAMP:20260422T021523
CREATED:20240315T202722Z
LAST-MODIFIED:20240315T202722Z
UID:10000514-1710655200-1710662400@www.andersoncenterforautism.org
SUMMARY:Linda Bertolozzi on 1 in 36
DESCRIPTION:This weekend’s 1 in 36 guest is Linda Bertolozzi. Linda is the Director of Office of Accommodative Services at Dutchess Community College (DCC). Anderson and DCC are long time partners and friends\, collaborating on many projects over the years. Linda joins us to discuss the many different ways the Office of Accommodative Services (OAS) departments helps students\, including the Think Ahead program. OAS is committed to providing equal access and an inclusive campus community by providing accessibility services and advocacy for individuals with disabilities. Tune in to learn more about Linda and the OAS department\, or visit www.sunydutchess.edu/ \n\n\n\nDon’t forget!DCC is hosting a FREE Transition to College workshop on March 19thTime:  8:45 am – 1:00 pmThe James and Betty Hall Theatre\, 53 Pendell Rd\, Poughkeepsie\, NY 12601\, USADutchess Community CollegeThis workshop is for high school students with an IEP or 504 Plan; their parents/guardians; school personnel and any others involved in the college planning process. \n\n\n\n\n\n\n\nAiring live:Sunday March 17 6:00AM on WHUD 100.7FM and WBPM 92.9FM/96.5FMSunday March 17 7:30AM on Oldies – WGNY 98.9FM \n\n\n\n\n\n\n\nYou can also listen on our website\, or on the Apple Podcasts/Spotify Apps\, just search 1 in 36!
URL:https://www.andersoncenterforautism.org/calendar/linda-bertolozzi-on-1-in-36/
CATEGORIES:1 in 31 Podcast
END:VEVENT
BEGIN:VEVENT
DTSTART;TZID=UTC:20240317T060000
DTEND;TZID=UTC:20240317T080000
DTSTAMP:20260422T021523
CREATED:20240315T202722Z
LAST-MODIFIED:20240315T202722Z
UID:10000781-1710655200-1710662400@www.andersoncenterforautism.org
SUMMARY:Linda Bertolozzi on 1 in 36
DESCRIPTION:This weekend’s 1 in 36 guest is Linda Bertolozzi. Linda is the Director of Office of Accommodative Services at Dutchess Community College (DCC). Anderson and DCC are long time partners and friends\, collaborating on many projects over the years. Linda joins us to discuss the many different ways the Office of Accommodative Services (OAS) departments helps students\, including the Think Ahead program. OAS is committed to providing equal access and an inclusive campus community by providing accessibility services and advocacy for individuals with disabilities. Tune in to learn more about Linda and the OAS department\, or visit www.sunydutchess.edu/ \n\n\n\nDon’t forget!DCC is hosting a FREE Transition to College workshop on March 19thTime:  8:45 am – 1:00 pmThe James and Betty Hall Theatre\, 53 Pendell Rd\, Poughkeepsie\, NY 12601\, USADutchess Community CollegeThis workshop is for high school students with an IEP or 504 Plan; their parents/guardians; school personnel and any others involved in the college planning process. \n\n\n\n\n\n\n\nAiring live:Sunday March 17 6:00AM on WHUD 100.7FM and WBPM 92.9FM/96.5FMSunday March 17 7:30AM on Oldies – WGNY 98.9FM \n\n\n\n\n\n\n\nYou can also listen on our website\, or on the Apple Podcasts/Spotify Apps\, just search 1 in 36!
URL:https://www.andersoncenterforautism.org/calendar/linda-bertolozzi-on-1-in-36-2/
CATEGORIES:1 in 31 Podcast
END:VEVENT
END:VCALENDAR