BEGIN:VCALENDAR
VERSION:2.0
PRODID:-//Anderson Center for Autism - ECPv6.15.20//NONSGML v1.0//EN
CALSCALE:GREGORIAN
METHOD:PUBLISH
X-ORIGINAL-URL:https://www.andersoncenterforautism.org
X-WR-CALDESC:Events for Anderson Center for Autism
REFRESH-INTERVAL;VALUE=DURATION:PT1H
X-Robots-Tag:noindex
X-PUBLISHED-TTL:PT1H
BEGIN:VTIMEZONE
TZID:UTC
BEGIN:STANDARD
TZOFFSETFROM:+0000
TZOFFSETTO:+0000
TZNAME:UTC
DTSTART:20250101T000000
END:STANDARD
END:VTIMEZONE
BEGIN:VEVENT
DTSTART;TZID=UTC:20260405T060000
DTEND;TZID=UTC:20260405T090000
DTSTAMP:20260425T103438
CREATED:20260403T210239Z
LAST-MODIFIED:20260403T210239Z
UID:10000889-1775368800-1775379600@www.andersoncenterforautism.org
SUMMARY:Chip Vincie on 1 in 31: Autism Today
DESCRIPTION:This weekend’s 1 in 31: Autism Today guest is Chip Vincie. Chip’s brother has been in the care of Anderson Center for Autism’s for over 40 years. Chip joins us to discuss his journey to become his brother’s legal guardian in 1999. Chip is an advocate for autonomy\, but still helps to make decisions  regarding and advocates for his brother when needed! Tune in to learn more. \nAiring live:\nSunday April 5th at 6:00AM EST on WBPM 92.9/96.5 and WHUD 100.7FM\nSunday April 5th at 7:30AM EST on Oldies – WGNY 98.9FM\nSunday April 5th at 8:30AM EST on The Beacon – WGHQ 92.5FM \nYou can also listen to this episode below or on the following apps\, just search 1 in 31:\nAnderson Website\nAmazon Music\nApple Podcasts\nBoomplay\niHeart\nPodbean\nPodchaser\nSpotify\nYouTube
URL:https://www.andersoncenterforautism.org/calendar/chip-vincie-on-1-in-31-autism-today/
CATEGORIES:1 in 31 Podcast
ATTACH;FMTTYPE=image/png:https://www.andersoncenterforautism.org/wp-content/uploads/2026/02/1-in-31-autism-today-event-image.png
END:VEVENT
BEGIN:VEVENT
DTSTART;TZID=UTC:20260410T080000
DTEND;TZID=UTC:20260410T170000
DTSTAMP:20260425T103438
CREATED:20260410T202955Z
LAST-MODIFIED:20260410T203043Z
UID:10000890-1775808000-1775840400@www.andersoncenterforautism.org
SUMMARY:Victoria Thiery on 1 in 31: Autism Today
DESCRIPTION:This weekend’s 1 in 31: Autism Today guest is Victoria Thiery. Victoria is a writer\, producer\, and director. She works alongside her husband\, Austin.  Victoria specializes in character development and final edits\, with a keen eye for emotional consistency\, narrative cohesion\, and refining stories until they feel honest\, intentional\, and complete. She joins us to discuss their latest project: Know Limits. Know Limits is a narrative television project centered on Colin\, an autistic lacrosse superfan who uncovers corruption within professional lacrosse. Tune in to learn more or visit: https://thethierysfeature.com/ \nAiring live:\nSunday April 12th at 6:00AM EST on WBPM 92.9/96.5 and WHUD 100.7FM\nSunday April 12th at 7:30AM EST on Oldies – WGNY 98.9FM\nSunday April 12th at 8:30AM EST on The Beacon – WGHQ 92.5FM \nYou can also listen to this episode below or on the following apps\, just search 1 in 31:\nAnderson Website\nAmazon Music\nApple Podcasts\nBoomplay\niHeart\nPodbean\nPodchaser\nSpotify\nYouTube
URL:https://www.andersoncenterforautism.org/calendar/victoria-thiery-on-1-in-31-autism-today/
CATEGORIES:1 in 31 Podcast
ATTACH;FMTTYPE=image/png:https://www.andersoncenterforautism.org/wp-content/uploads/2026/02/1-in-31-autism-today-event-image.png
END:VEVENT
BEGIN:VEVENT
DTSTART;TZID=UTC:20260419T060000
DTEND;TZID=UTC:20260419T090000
DTSTAMP:20260425T103438
CREATED:20260417T193631Z
LAST-MODIFIED:20260417T193631Z
UID:10000891-1776578400-1776589200@www.andersoncenterforautism.org
SUMMARY:Brigitte Shipman on 1 in 31: Autism Today
DESCRIPTION:This weekend’s 1 in 31: Autism Today guest is Brigitte Shipman. Brigitte is a speaker\, author\, certified life coach\, and host of the Mother’s Guide Through Autism podcast. She is also mom to two adult sons\, one on the autism spectrum. Her mission is to help parents—and anyone navigating life’s “tsunamis”—move from heartbreak to healing\, from overwhelm to empowerment. Briggite shares real stories and practical insights that inspire healing\, connection\, and hope for families—and for anyone navigating life’s unexpected challenges. \nTune in to learn more or visit: https://www.mothersguidethroughautism.com/ \nAiring live:\nSunday April 19th at 6:00AM EST on WBPM 92.9/96.5 and WHUD 100.7FM\nSunday April 19th at 7:30AM EST on Oldies – WGNY 98.9FM\nSunday April 19th at 8:30AM EST on The Beacon – WGHQ 92.5FM \nYou can also listen to this episode below or on the following apps\, just search 1 in 31:\nAnderson Website\nAmazon Music\nApple Podcasts\nBoomplay\niHeart\nPodbean\nPodchaser\nSpotify\nYouTube
URL:https://www.andersoncenterforautism.org/calendar/brigitte-shipman-on-1-in-31-autism-today/
CATEGORIES:1 in 31 Podcast
ATTACH;FMTTYPE=image/png:https://www.andersoncenterforautism.org/wp-content/uploads/2026/02/1-in-31-autism-today-event-image.png
END:VEVENT
BEGIN:VEVENT
DTSTART;TZID=UTC:20260426T060000
DTEND;TZID=UTC:20260426T090000
DTSTAMP:20260425T103438
CREATED:20260424T172542Z
LAST-MODIFIED:20260424T172542Z
UID:10000892-1777183200-1777194000@www.andersoncenterforautism.org
SUMMARY:Mariel Piña on 1 in 31: Autism Today
DESCRIPTION:This weekend’s 1 in 31: Autism Today guest is Mariel Piña. Mariel is the Coordinator of Planning and Adult Services for the Rockland County Department of Mental Health (RCDMH). Mariel joins us to discuss the All-Abilities training RCDMH underwent and subsequent partnership with Anderson Center Consulting and Training. RCDMH is now offering a series of free trainings to organizations and businesses in Rockland County to build autism-friendly environments across all sectors of the community. Mariel also discusses the Rockland Works Career Center – Rockland’s one-stop employment and training resource\, supporting both the employment and training needs of job seekers and the staffing needs of local employers. \nTune in to learn more or visit: https://www.rocklandcountyny.gov/departments/mental-health/mental-health-training \nAiring live:\nSunday April 26th at 6:00AM EST on WBPM 92.9/96.5 and WHUD 100.7FM\nSunday April 26th at 7:30AM EST on Oldies – WGNY 98.9FM\nSunday April 26th at 8:30AM EST on The Beacon – WGHQ 92.5FM \nYou can also listen to this episode below or on the following apps\, just search 1 in 31:\nAnderson Website\nAmazon Music\nApple Podcasts\nBoomplay\niHeart\nPodbean\nPodchaser\nSpotify\nYouTube
URL:https://www.andersoncenterforautism.org/calendar/mariel-pina-on-1-in-31-autism-today/
CATEGORIES:1 in 31 Podcast
ATTACH;FMTTYPE=image/png:https://www.andersoncenterforautism.org/wp-content/uploads/2026/02/1-in-31-autism-today-event-image.png
END:VEVENT
END:VCALENDAR