BEGIN:VCALENDAR
VERSION:2.0
PRODID:-//Anderson Center for Autism - ECPv6.15.20//NONSGML v1.0//EN
CALSCALE:GREGORIAN
METHOD:PUBLISH
X-ORIGINAL-URL:https://www.andersoncenterforautism.org
X-WR-CALDESC:Events for Anderson Center for Autism
REFRESH-INTERVAL;VALUE=DURATION:PT1H
X-Robots-Tag:noindex
X-PUBLISHED-TTL:PT1H
BEGIN:VTIMEZONE
TZID:UTC
BEGIN:STANDARD
TZOFFSETFROM:+0000
TZOFFSETTO:+0000
TZNAME:UTC
DTSTART:20230101T000000
END:STANDARD
END:VTIMEZONE
BEGIN:VEVENT
DTSTART;TZID=UTC:20240921T130000
DTEND;TZID=UTC:20240921T150000
DTSTAMP:20260425T102953
CREATED:20240708T211201Z
LAST-MODIFIED:20240708T211201Z
UID:10000801-1726923600-1726930800@www.andersoncenterforautism.org
SUMMARY:Vinnie’s 3rd Annual Autism Awareness Fundraiser to Benefit ACA
DESCRIPTION:Come on out to the beautiful Locust Grove Brewing Company for a great cause!Food will be available for purchase from Pops PlaceRaffles! Dogs welcome!All proceeds to benefit Anderson Center for Autism
URL:https://www.andersoncenterforautism.org/calendar/vinnies-3rd-annual-autism-awareness-fundraiser-to-benefit-aca/
LOCATION:Locust Grove Brewing Company\, 162 North Road Milton\, New York\, United States
CATEGORIES:Third Party Fundraiser
ATTACH;FMTTYPE=image/jpeg:https://www.andersoncenterforautism.org/wp-content/uploads/2024/07/IMG_0318.jpeg
END:VEVENT
END:VCALENDAR