BEGIN:VCALENDAR
VERSION:2.0
PRODID:-//Anderson Center for Autism - ECPv6.15.20//NONSGML v1.0//EN
CALSCALE:GREGORIAN
METHOD:PUBLISH
X-ORIGINAL-URL:https://www.andersoncenterforautism.org
X-WR-CALDESC:Events for Anderson Center for Autism
REFRESH-INTERVAL;VALUE=DURATION:PT1H
X-Robots-Tag:noindex
X-PUBLISHED-TTL:PT1H
BEGIN:VTIMEZONE
TZID:UTC
BEGIN:STANDARD
TZOFFSETFROM:+0000
TZOFFSETTO:+0000
TZNAME:UTC
DTSTART:20240101T000000
END:STANDARD
END:VTIMEZONE
BEGIN:VEVENT
DTSTART;VALUE=DATE:20250411
DTEND;VALUE=DATE:20250412
DTSTAMP:20260421T230842
CREATED:20250220T182229Z
LAST-MODIFIED:20250220T184935Z
UID:10000823-1744329600-1744415999@www.andersoncenterforautism.org
SUMMARY:9th Annual Autism Acceptance Day Fundraiser
DESCRIPTION:Join in on the fun\, wear your pajamas on Friday April 11th!\nDonate $3 or more at the link below to make a difference\, all proceeds benefit Anderson Center for Autism. \nDear friends\, family\, and community members\, \nMy name is Abby Edwards\, I am a sophomore at Marist College studying Elementary/Special Education. My brother Riley is on the autism spectrum and receives services at Anderson Center for Autism where he is continuing his lifelong learning journey. Riley resides in an adult group home and attends a Day Habilitation program during the school week. \nSince 2017\, I have been coordinating an annual Pajama Day fundraiser with the incredible participation of school districts across the state\, and support from friends\, family\, and community members. Over the past 7 years\, together we have raised over $51\,000 in honor of my brother Riley\, supporting Anderson Center for Autism and promoting Autism Acceptance. \nPost your pajama day photos to Instagram\, Twitter\, Facebook\, Tik Tok\, etc. and be sure to use the hashtag #AutismAcceptancePJDay24 and tag @AndersonCenterForAutism and the pajama day account @AutismAcceptancePJDay. \nThank you for your continued support\, \nAbby Edwards | aedwards456@icloud.com \nClick here to donate\nChecks can be made out to: Anderson Foundation for Autism\, Memo – Pajama Day\nMailed to: Abby Edwards\, 19 East Moriches Boulevard\, East Moriches NY 11940 \nDownload PDF flyer to print and share \nVisit the Autism Acceptance Pajama Day Fundraiser Facebook Page
URL:https://www.andersoncenterforautism.org/calendar/pajamaday/
LOCATION:NY
CATEGORIES:Autism Community,Third Party Fundraiser
ATTACH;FMTTYPE=image/png:https://www.andersoncenterforautism.org/wp-content/uploads/2024/02/pajama-day-carousel-image.png
END:VEVENT
END:VCALENDAR