BEGIN:VCALENDAR
VERSION:2.0
PRODID:-//Anderson Center for Autism - ECPv6.15.20//NONSGML v1.0//EN
CALSCALE:GREGORIAN
METHOD:PUBLISH
X-WR-CALNAME:Anderson Center for Autism
X-ORIGINAL-URL:https://www.andersoncenterforautism.org
X-WR-CALDESC:Events for Anderson Center for Autism
REFRESH-INTERVAL;VALUE=DURATION:PT1H
X-Robots-Tag:noindex
X-PUBLISHED-TTL:PT1H
BEGIN:VTIMEZONE
TZID:UTC
BEGIN:STANDARD
TZOFFSETFROM:+0000
TZOFFSETTO:+0000
TZNAME:UTC
DTSTART:20230101T000000
END:STANDARD
END:VTIMEZONE
BEGIN:VEVENT
DTSTART;TZID=UTC:20240204T053000
DTEND;TZID=UTC:20240204T080000
DTSTAMP:20260422T090604
CREATED:20240202T225258Z
LAST-MODIFIED:20240202T225258Z
UID:6048-1707024600-1707033600@www.andersoncenterforautism.org
SUMMARY:Debbie Goddard on 1 in 36
DESCRIPTION:This weekend’s 1 in 36 guest is Debbie Goddard. Debbie is the Family and Community Educator at the Lower Hudson Valley FACE Center at the Westchester Institute for Human Development (WIHD). She has been with WIHD for five years. Debbie has a personal connection to autism\, as she is the parent of an individual with ASD. Debbie is also the founder and former president of the Ossining School District SEPTO where she coordinated with professionals to lead workshops\, presentations and Q & A sessions on a variety of relevant topics to the disability community. Tune in to learn more about the FACE Center and WIHD! \n\n\n\n\n\n\n\nAiring live:Sunday February 4th 5:30AM on WHUD 100.7FMSunday February 4th 6:00AM on WBPM 92.9FM/96.5FMSunday February 4th 7:30AM on Oldies – WGNY 98.9FM \n\n\n\n\n\n\n\nYou can also listen on our website\, or on the Apple Podcasts/Spotify Apps\, just search 1 in 36!
URL:https://www.andersoncenterforautism.org/calendar/debbie-goddard-on-1-in-36-2/
CATEGORIES:1 in 31 Podcast
END:VEVENT
END:VCALENDAR