BEGIN:VCALENDAR
VERSION:2.0
PRODID:-//Anderson Center for Autism - ECPv6.15.20//NONSGML v1.0//EN
CALSCALE:GREGORIAN
METHOD:PUBLISH
X-WR-CALNAME:Anderson Center for Autism
X-ORIGINAL-URL:https://www.andersoncenterforautism.org
X-WR-CALDESC:Events for Anderson Center for Autism
REFRESH-INTERVAL;VALUE=DURATION:PT1H
X-Robots-Tag:noindex
X-PUBLISHED-TTL:PT1H
BEGIN:VTIMEZONE
TZID:UTC
BEGIN:STANDARD
TZOFFSETFROM:+0000
TZOFFSETTO:+0000
TZNAME:UTC
DTSTART:20190101T000000
END:STANDARD
END:VTIMEZONE
BEGIN:VEVENT
DTSTART;TZID=UTC:20201014T160000
DTEND;TZID=UTC:20201014T170000
DTSTAMP:20260421T150456
CREATED:20230419T101838Z
LAST-MODIFIED:20230419T101838Z
UID:1355-1602691200-1602694800@www.andersoncenterforautism.org
SUMMARY:Essential Components of Remote Learning
DESCRIPTION:Do you want to learn how you can engage your students and support their\n      needs while providing remote instruction?\n     \n    \n      Do you want to learn how you can engage your students and support their\n      needs while providing remote instruction?\n     \n\n    \n    \n      Many of the evidence-based practices that promote student engagement in\n      classrooms can be applied to remote teaching situations. Join us for a\n      review and discussion of ways to promote continuity of learning including:\n      structure and routines\, PBIS\, communication and instructional practice.\n      Information is applicable to a variety of educators- General Ed\, Special\n      Ed\, Preschool Ed. 1 CTLE credit can be earned from this one hour training!\n     \n\n    Cost: $30 (includes CTLE credit) \n    \n    \n      If you do not have a PayPal account\, please use Guest Checkout to pay by\n      credit card.\n     \n    \n    \n      Please register in advance!
URL:https://www.andersoncenterforautism.org/calendar/essential-components-of-remote-learning/
ATTACH;FMTTYPE=image/jpeg:https://www.andersoncenterforautism.org/wp-content/uploads/2023/04/live-webinar.jpg
END:VEVENT
END:VCALENDAR