BEGIN:VCALENDAR
VERSION:2.0
PRODID:-//Anderson Center for Autism - ECPv6.15.20//NONSGML v1.0//EN
CALSCALE:GREGORIAN
METHOD:PUBLISH
X-WR-CALNAME:Anderson Center for Autism
X-ORIGINAL-URL:https://www.andersoncenterforautism.org
X-WR-CALDESC:Events for Anderson Center for Autism
REFRESH-INTERVAL;VALUE=DURATION:PT1H
X-Robots-Tag:noindex
X-PUBLISHED-TTL:PT1H
BEGIN:VTIMEZONE
TZID:UTC
BEGIN:STANDARD
TZOFFSETFROM:+0000
TZOFFSETTO:+0000
TZNAME:UTC
DTSTART:20210101T000000
END:STANDARD
END:VTIMEZONE
BEGIN:VEVENT
DTSTART;TZID=UTC:20220116T053000
DTEND;TZID=UTC:20220116T080000
DTSTAMP:20260422T092941
CREATED:20230414T095921Z
LAST-MODIFIED:20230414T095921Z
UID:5878-1642311000-1642320000@www.andersoncenterforautism.org
SUMMARY:Jason Weiss\, Jennifer Kalter\, & Sarah Thompson on 1 in 44
DESCRIPTION:This weekend we are joined by team members from the New York Transit Museum in Brooklyn\, NY.\n   \n  \n    We are joined by team members from the New York Transit Museum in Brooklyn\, NY. Jason Weiss has worked at the museum since 2015\, he is an education associate now working the floor\, meeting museum guests and more! Sarah Thompson is the Special Education and Access Manager\, Jennifer Kalter is the Assistant Deputy Director for education and public programs. The museum has many NEW virtual offerings including: online events\, adult & school programs\, and parties. You can learn more about these changes and when to visit in person by tuning in or visiting: www.nytransitmuseum.org/\n\n   \n  \n  \n    Airing live:\n    Sunday January 16 5:30AM on WHUD 100.7FM\n    Sunday January 16 6:00AM on WBPM 92.9/96.5\n    Sunday January 16 7:30AM on Oldies – WGNY 98.9FM\n   \n  \n    You can also listen on our website\, or on the\n    Apple Podcasts/Spotify Apps\, just search 1 in 44!
URL:https://www.andersoncenterforautism.org/calendar/jason-weiss-jennifer-kalter-sarah-thompson-on-1-in-44-2/
CATEGORIES:1 in 31 Podcast
END:VEVENT
END:VCALENDAR