BEGIN:VCALENDAR
VERSION:2.0
PRODID:-//Anderson Center for Autism - ECPv6.15.20//NONSGML v1.0//EN
CALSCALE:GREGORIAN
METHOD:PUBLISH
X-WR-CALNAME:Anderson Center for Autism
X-ORIGINAL-URL:https://www.andersoncenterforautism.org
X-WR-CALDESC:Events for Anderson Center for Autism
REFRESH-INTERVAL;VALUE=DURATION:PT1H
X-Robots-Tag:noindex
X-PUBLISHED-TTL:PT1H
BEGIN:VTIMEZONE
TZID:UTC
BEGIN:STANDARD
TZOFFSETFROM:+0000
TZOFFSETTO:+0000
TZNAME:UTC
DTSTART:20210101T000000
END:STANDARD
END:VTIMEZONE
BEGIN:VEVENT
DTSTART;TZID=UTC:20220102T053000
DTEND;TZID=UTC:20220102T080000
DTSTAMP:20260420T115030
CREATED:20230414T100732Z
LAST-MODIFIED:20230414T100732Z
UID:5880-1641101400-1641110400@www.andersoncenterforautism.org
SUMMARY:Joshwin Hidalgo & Tiffany Skerritt on 1 in 54
DESCRIPTION:This weekend Eliza is joined by two colleagues! Tiffany is a specialist in the Staff Development department\, Josh is a Behavioral Specialist within Anderson’s Adult Program\n   \n  \n    This weekend’s 1 in 54 guests are Joshwin Hidalgo & Tiffany Skerritt. Tiffany is a specialist in the Staff Development department\, Josh is a Behavioral Specialist within Anderson’s Adult Program. Tune in to hear them discuss Anderson’s Career Tracks program. Career Tracks is an initiative ACA started to aid team members in achieving professional growth.\n\n\n\n   \n  \n  \n    Airing live:\n    Sunday January 2 5:30AM on WHUD 100.7FM\n    Sunday January 2 6:00AM on WBPM 92.9/96.5\n    Sunday January 2 7:30AM on Oldies – WGNY 98.9FM\n   \n  \n    You can also listen on our website\, or on the\n    Apple Podcasts/Spotify Apps\, just search 1 in 44!
URL:https://www.andersoncenterforautism.org/calendar/joshwin-hidalgo-tiffany-skerritt-on-1-in-54-3/
CATEGORIES:1 in 31 Podcast
END:VEVENT
END:VCALENDAR