BEGIN:VCALENDAR
VERSION:2.0
PRODID:-//Anderson Center for Autism - ECPv6.15.20//NONSGML v1.0//EN
CALSCALE:GREGORIAN
METHOD:PUBLISH
X-WR-CALNAME:Anderson Center for Autism
X-ORIGINAL-URL:https://www.andersoncenterforautism.org
X-WR-CALDESC:Events for Anderson Center for Autism
REFRESH-INTERVAL;VALUE=DURATION:PT1H
X-Robots-Tag:noindex
X-PUBLISHED-TTL:PT1H
BEGIN:VTIMEZONE
TZID:UTC
BEGIN:STANDARD
TZOFFSETFROM:+0000
TZOFFSETTO:+0000
TZNAME:UTC
DTSTART:20210101T000000
END:STANDARD
END:VTIMEZONE
BEGIN:VEVENT
DTSTART;TZID=UTC:20220427T170000
DTEND;TZID=UTC:20220427T190000
DTSTAMP:20260425T113143
CREATED:20230418T121728Z
LAST-MODIFIED:20230418T121728Z
UID:1279-1651078800-1651086000@www.andersoncenterforautism.org
SUMMARY:Mr. Anderson Happy Hour (ACA Team & Board Member Event)
DESCRIPTION:Join us for the Mr. Anderson Happy Hour at Mill House Brewing Company!\n   \n  \n    \n      Anderson Foundation for Autism invites you to join us for the Mr. Anderson\n      Happy Hour at Mill House Brewing Company!\n     \n    \n    \n      Please note this event is for ACA Team Members\, Board Members\, and\n        Guests only\n      \n      \n        Ticket cost is $35 each \n\n        Please click HERE to purchase your ticket to the event! \n         Tickets must be purchased by April 20th\n     \n     \n    \n    \n      Tickets include cocktail appetizers\, beer\, & wine \n      First 20 tickets purchased will receive an ACA & MHBC Branded Pint Glass\n     \n    \n    \n      There will be door prizes and raffles throughout the event!\n     \n    \n    \n      Please note there is no tickets to be printed for this event. Your name\n      will be added to the RSVP list and you must check in upon arrival at the\n      event.\n     \n    \n    \n      Questions? Please email info@AndersonCares.org\n     \n    \n    \n    \n     \n    NYS law requires that you be 21 or older to drink alcohol\n      If you are not feeling well or were exposed to someone that is not feeling well\, please purchase a Mr. Anderson Crowler to enjoy at home!\n      Mill House Brewing Company COVID-19 Policy will be followed the day of the event \n     \n    \n    \n      \n        Mill House Brewing Company289 Mill StreetPoughkeepsie\, NY 12601
URL:https://www.andersoncenterforautism.org/calendar/mr-anderson-happy-hour-aca-team-board-member-event/
LOCATION:Mill House Brewing Company\, 289 Mill Street\, Poughkeepsie\, United States
ATTACH;FMTTYPE=image/png:https://www.andersoncenterforautism.org/wp-content/uploads/2023/03/mr-anderson-event.png
END:VEVENT
END:VCALENDAR