BEGIN:VCALENDAR
VERSION:2.0
PRODID:-//Anderson Center for Autism - ECPv6.15.20//NONSGML v1.0//EN
CALSCALE:GREGORIAN
METHOD:PUBLISH
X-WR-CALNAME:Anderson Center for Autism
X-ORIGINAL-URL:https://www.andersoncenterforautism.org
X-WR-CALDESC:Events for Anderson Center for Autism
REFRESH-INTERVAL;VALUE=DURATION:PT1H
X-Robots-Tag:noindex
X-PUBLISHED-TTL:PT1H
BEGIN:VTIMEZONE
TZID:UTC
BEGIN:STANDARD
TZOFFSETFROM:+0000
TZOFFSETTO:+0000
TZNAME:UTC
DTSTART:20210101T000000
END:STANDARD
END:VTIMEZONE
BEGIN:VEVENT
DTSTART;TZID=UTC:20220213T110000
DTEND;TZID=UTC:20220213T170000
DTSTAMP:20260421T232119
CREATED:20230419T090842Z
LAST-MODIFIED:20230419T090842Z
UID:10000428-1644750000-1644771600@www.andersoncenterforautism.org
SUMMARY:Expressive Outcomes Artwork on Display (2/1/22-2/13/22)
DESCRIPTION:Anderson Center for Autism Expressive Outcomes Art Program will have artwork on display at the Artists’ Collective of Hyde Park!\n     \n    \n      Anderson Center for Autism Expressive Outcomes Art Program will have artwork on display at the Artists’ Collective of Hyde Park! Artwork will be on display from Tuesday February 1st until Sunday February 13th. \n\n    \n\n    \n      View the art list here\n     \n    \n    Gallery hours: \n      Winter Hours (Starting December 1) \n      Friday             11AM – 5PM \n      Saturday          11AM – 5PM \n      Sunday            11AM – 5PM \n      *Or by appointment\, call (845) 366-685 \n      Visit www.artistscollectiveofhydepark.com for more information on the art gallery \n  \n  \n    Artists’ Collective of Hyde Park4338 Albany Post RoadHyde Park\, NY 12583
URL:https://www.andersoncenterforautism.org/calendar/expressive-outcomes-artwork-on-display-2-1-22-2-13-22/
LOCATION:Artists’ Collective of Hyde Park\, 4338 Albany Post Road\, Hyde Park\, New York\, United States
CATEGORIES:Autism Community
ATTACH;FMTTYPE=image/png:https://www.andersoncenterforautism.org/wp-content/uploads/2023/04/expressive-outcomes-event-image-1.png
END:VEVENT
BEGIN:VEVENT
DTSTART;TZID=UTC:20220213T110000
DTEND;TZID=UTC:20220213T170000
DTSTAMP:20260421T232119
CREATED:20230419T090842Z
LAST-MODIFIED:20230419T090842Z
UID:10000695-1644750000-1644771600@www.andersoncenterforautism.org
SUMMARY:Expressive Outcomes Artwork on Display (2/1/22-2/13/22)
DESCRIPTION:Anderson Center for Autism Expressive Outcomes Art Program will have artwork on display at the Artists’ Collective of Hyde Park!\n     \n    \n      Anderson Center for Autism Expressive Outcomes Art Program will have artwork on display at the Artists’ Collective of Hyde Park! Artwork will be on display from Tuesday February 1st until Sunday February 13th. \n\n    \n\n    \n      View the art list here\n     \n    \n    Gallery hours: \n      Winter Hours (Starting December 1) \n      Friday             11AM – 5PM \n      Saturday          11AM – 5PM \n      Sunday            11AM – 5PM \n      *Or by appointment\, call (845) 366-685 \n      Visit www.artistscollectiveofhydepark.com for more information on the art gallery \n  \n  \n    Artists’ Collective of Hyde Park4338 Albany Post RoadHyde Park\, NY 12583
URL:https://www.andersoncenterforautism.org/calendar/expressive-outcomes-artwork-on-display-2-1-22-2-13-22-2/
LOCATION:Artists’ Collective of Hyde Park\, 4338 Albany Post Road\, Hyde Park\, New York\, United States
CATEGORIES:Autism Community
ATTACH;FMTTYPE=image/png:https://www.andersoncenterforautism.org/wp-content/uploads/2023/04/expressive-outcomes-event-image-1.png
END:VEVENT
END:VCALENDAR